BEGIN:VCALENDAR
VERSION:2.0
PRODID:-//New Zone+ Application - ECPv6.15.20//NONSGML v1.0//EN
CALSCALE:GREGORIAN
METHOD:PUBLISH
X-WR-CALNAME:New Zone+ Application
X-ORIGINAL-URL:https://seasaareteater.ee
X-WR-CALDESC:Events for New Zone+ Application
REFRESH-INTERVAL;VALUE=DURATION:PT1H
X-Robots-Tag:noindex
X-PUBLISHED-TTL:PT1H
BEGIN:VTIMEZONE
TZID:Europe/Tallinn
BEGIN:DAYLIGHT
TZOFFSETFROM:+0200
TZOFFSETTO:+0300
TZNAME:EEST
DTSTART:20250330T010000
END:DAYLIGHT
BEGIN:STANDARD
TZOFFSETFROM:+0300
TZOFFSETTO:+0200
TZNAME:EET
DTSTART:20251026T010000
END:STANDARD
BEGIN:DAYLIGHT
TZOFFSETFROM:+0200
TZOFFSETTO:+0300
TZNAME:EEST
DTSTART:20260329T010000
END:DAYLIGHT
BEGIN:STANDARD
TZOFFSETFROM:+0300
TZOFFSETTO:+0200
TZNAME:EET
DTSTART:20261025T010000
END:STANDARD
BEGIN:DAYLIGHT
TZOFFSETFROM:+0200
TZOFFSETTO:+0300
TZNAME:EEST
DTSTART:20270328T010000
END:DAYLIGHT
BEGIN:STANDARD
TZOFFSETFROM:+0300
TZOFFSETTO:+0200
TZNAME:EET
DTSTART:20271031T010000
END:STANDARD
END:VTIMEZONE
BEGIN:VEVENT
DTSTART;TZID=Europe/Tallinn:20260508T190000
DTEND;TZID=Europe/Tallinn:20260508T210000
DTSTAMP:20260421T135920
CREATED:20260411T092153Z
LAST-MODIFIED:20260417T132114Z
UID:1007-1778266800-1778274000@seasaareteater.ee
SUMMARY:Kadunud  La Manche`i  kohal
DESCRIPTION:Autor | Jean-Pierre Martinez näidendi ainetel\nLavastaja | Ain Saviauk\nLaval\nReet Raudsepp | Christine\nSaskia Sepp | Natalie\nKait Aidnik | Patrick\nKristjan Kaarjärv | John \nJohn ja Christine valmistuvad hubaseks õhtusöögiks\, kuhu on oodata ka nende lähedasi sõpru. Kõik muutub hetkega\, kui uksest tormab sisse Natalie – segaduses\, ahastuses ja pisarates. Ta teatab\, et tema abikaasa Patricu lennuk\, millega mees pidi koju naasma\, on väidetavalt La Manche’i  kohal alla kukkunud ning uudiste järgi pole ellujäänuid.  Sel ajal\, kui Natalie püüab oma leinaga toime tulla ja sõbrad teda lohutavad\, saab John uudistest teada\, et tema juhuslikult ostetud lotopilet on võitnud pöörase summa\, 60 miljonit naela. \nÕhtu areneb ootamatute ja koomiliste pööretega. Saladused hakkavad pinnale kerkima: kas Patricu lennuõnnetus on ikka see\, mis paistab? Kas keegi teab rohkem\, kui välja näitab? Samal ajal kerkivad esile küsimused sõprusest\, aususest ja rahast – kui kaugele ollakse valmis minema\, et oma unistusi täita? Valed\, arusaamatused ja ootamatu külaline keeravad õhtu pea peale. Ja selle kõige keskel on kohver- õnneliku või hoopis õnnetu lotopiletiga. \n„Kadunud La Manche’i kohal“ on tempokas ja vaimukas lavastus\, kus elu suurimad pöörded võivad saabuda kõige ootamatumal hetkel. Hetkel millal saatusel on tahtmine sinu kulul lõbutseda.\n  \nosta pilet | fienta
URL:https://seasaareteater.ee/etendus/kadunud-la-manchei-kohal/
LOCATION:Seasaare teater\, Väike-Turu 3\, Viljandi\, Viljandi\, 71003\, Estonia
ATTACH;FMTTYPE=image/jpeg:https://seasaareteater.ee/wp-content/uploads/2026/04/karusell_kadu.jpg
END:VEVENT
BEGIN:VEVENT
DTSTART;TZID=Europe/Tallinn:20260512T190000
DTEND;TZID=Europe/Tallinn:20260512T210000
DTSTAMP:20260421T135920
CREATED:20260416T091904Z
LAST-MODIFIED:20260417T132234Z
UID:1022-1778612400-1778619600@seasaareteater.ee
SUMMARY:Kadunud  La Manche`i  kohal
DESCRIPTION:Autor | Jean-Pierre Martinez näidendi ainetel\nLavastaja | Ain Saviauk\nLaval\nReet Raudsepp | Christine\nSaskia Sepp | Natalie\nKait Aidnik | Patrick\nKristjan Kaarjärv | John \nJohn ja Christine valmistuvad hubaseks õhtusöögiks\, kuhu on oodata ka nende lähedasi sõpru. Kõik muutub hetkega\, kui uksest tormab sisse Natalie – segaduses\, ahastuses ja pisarates. Ta teatab\, et tema abikaasa Patricu lennuk\, millega mees pidi koju naasma\, on väidetavalt La Manche’i  kohal alla kukkunud ning uudiste järgi pole ellujäänuid.  Sel ajal\, kui Natalie püüab oma leinaga toime tulla ja sõbrad teda lohutavad\, saab John uudistest teada\, et tema juhuslikult ostetud lotopilet on võitnud pöörase summa\, 60 miljonit naela. \nÕhtu areneb ootamatute ja koomiliste pööretega. Saladused hakkavad pinnale kerkima: kas Patricu lennuõnnetus on ikka see\, mis paistab? Kas keegi teab rohkem\, kui välja näitab? Samal ajal kerkivad esile küsimused sõprusest\, aususest ja rahast – kui kaugele ollakse valmis minema\, et oma unistusi täita? Valed\, arusaamatused ja ootamatu külaline keeravad õhtu pea peale. Ja selle kõige keskel on kohver- õnneliku või hoopis õnnetu lotopiletiga. \n„Kadunud La Manche’i kohal“ on tempokas ja vaimukas lavastus\, kus elu suurimad pöörded võivad saabuda kõige ootamatumal hetkel. Hetkel millal saatusel on tahtmine sinu kulul lõbutseda.\n  \nosta pilet | fienta
URL:https://seasaareteater.ee/etendus/kadunud-la-manchei-kohal-2/
LOCATION:Seasaare teater\, Väike-Turu 3\, Viljandi\, Viljandi\, 71003\, Estonia
ATTACH;FMTTYPE=image/jpeg:https://seasaareteater.ee/wp-content/uploads/2026/04/karusell_kadu.jpg
END:VEVENT
BEGIN:VEVENT
DTSTART;TZID=Europe/Tallinn:20260516T180000
DTEND;TZID=Europe/Tallinn:20260516T200000
DTSTAMP:20260421T135920
CREATED:20260416T092344Z
LAST-MODIFIED:20260417T132326Z
UID:1027-1778954400-1778961600@seasaareteater.ee
SUMMARY:Kadunud  La Manche`i  kohal
DESCRIPTION:Autor | Jean-Pierre Martinez näidendi ainetel\nLavastaja | Ain Saviauk\nLaval\nReet Raudsepp | Christine\nSaskia Sepp | Natalie\nKait Aidnik | Patrick\nKristjan Kaarjärv | John \nJohn ja Christine valmistuvad hubaseks õhtusöögiks\, kuhu on oodata ka nende lähedasi sõpru. Kõik muutub hetkega\, kui uksest tormab sisse Natalie – segaduses\, ahastuses ja pisarates. Ta teatab\, et tema abikaasa Patricu lennuk\, millega mees pidi koju naasma\, on väidetavalt La Manche’i  kohal alla kukkunud ning uudiste järgi pole ellujäänuid.  Sel ajal\, kui Natalie püüab oma leinaga toime tulla ja sõbrad teda lohutavad\, saab John uudistest teada\, et tema juhuslikult ostetud lotopilet on võitnud pöörase summa\, 60 miljonit naela. \nÕhtu areneb ootamatute ja koomiliste pööretega. Saladused hakkavad pinnale kerkima: kas Patricu lennuõnnetus on ikka see\, mis paistab? Kas keegi teab rohkem\, kui välja näitab? Samal ajal kerkivad esile küsimused sõprusest\, aususest ja rahast – kui kaugele ollakse valmis minema\, et oma unistusi täita? Valed\, arusaamatused ja ootamatu külaline keeravad õhtu pea peale. Ja selle kõige keskel on kohver- õnneliku või hoopis õnnetu lotopiletiga. \n„Kadunud La Manche’i kohal“ on tempokas ja vaimukas lavastus\, kus elu suurimad pöörded võivad saabuda kõige ootamatumal hetkel. Hetkel millal saatusel on tahtmine sinu kulul lõbutseda.\n  \nosta pilet | fienta
URL:https://seasaareteater.ee/etendus/kadunud-la-manchei-kohal-duplicate/
LOCATION:Seasaare teater\, Väike-Turu 3\, Viljandi\, Viljandi\, 71003\, Estonia
ATTACH;FMTTYPE=image/jpeg:https://seasaareteater.ee/wp-content/uploads/2026/04/karusell_kadu.jpg
END:VEVENT
BEGIN:VEVENT
DTSTART;TZID=Europe/Tallinn:20260602T190000
DTEND;TZID=Europe/Tallinn:20260602T200000
DTSTAMP:20260421T135920
CREATED:20260411T092738Z
LAST-MODIFIED:20260417T131236Z
UID:1010-1780426800-1780430400@seasaareteater.ee
SUMMARY:Kutsuge Marge
DESCRIPTION:Lavastaja Jaanus Kukk\nMarge – Katariina Raudsepp\nHeino – Romet Koser \nTempokas ja lustakas komöödia\, mis viib vaataja otse autojuhi sõidueksami närvesöövasse maailma\, kus esmapilgul lihtsast eksamist kujuneb ootamatult tõeline närvide\, usalduse ja huumori proovikivi.\nPeategelane on eksaminärvis õpilane\, kelle enesekindlus kõigub iga käiguga. Tema kõrval istub rahulik\, kuid salapärane instruktor\, kelle meetodid pole just tavapärased. Sõidu käigus satutakse järjest absurdsematesse ja peadpööritavatesse olukordadesse\, kus liiklusreeglid\, loogika ja vahel ka reaalsus ise näivad korraks kaduma minevat.\nMida rohkem pinge kasvab\, seda selgemaks saab\, et eksam ei pane proovile mitte ainult sõiduoskust\, vaid ka inimlikku usaldust\, julgust ja võimet ootamatustega toime tulla. Kas õpilane suudab lõpuks rooli enda kätte võtta – nii otseses kui ka ülekantud tähenduses?\n„Kutsuge Marge” on vaimukas ja südamlik lavalugu\, mis tuletab meelde\, et vahel viivad kõige keerulisemad teed just õigesse sihtkohta. \nEsietendus 2.06.2026 Viljandi \nNB! Etendus toimub: LX Motors Honda autosalong\, Viljandi\, kaart \n\nosta pilet | fienta
URL:https://seasaareteater.ee/etendus/kutsuge-marge/
LOCATION:LX Motors\, Tallinna 97b\, Viljandi\, 71018
ATTACH;FMTTYPE=image/jpeg:https://seasaareteater.ee/wp-content/uploads/2026/04/KMarge.jpg
END:VEVENT
BEGIN:VEVENT
DTSTART;TZID=Europe/Tallinn:20260603T190000
DTEND;TZID=Europe/Tallinn:20260603T200000
DTSTAMP:20260421T135920
CREATED:20260416T094249Z
LAST-MODIFIED:20260417T131519Z
UID:1037-1780513200-1780516800@seasaareteater.ee
SUMMARY:Kutsuge Marge
DESCRIPTION:Lavastaja Jaanus Kukk\nMarge – Katariina Raudsepp\nHeino – Romet Koser \nTempokas ja lustakas komöödia\, mis viib vaataja otse autojuhi sõidueksami närvesöövasse maailma\, kus esmapilgul lihtsast eksamist kujuneb ootamatult tõeline närvide\, usalduse ja huumori proovikivi.\nPeategelane on eksaminärvis õpilane\, kelle enesekindlus kõigub iga käiguga. Tema kõrval istub rahulik\, kuid salapärane instruktor\, kelle meetodid pole just tavapärased. Sõidu käigus satutakse järjest absurdsematesse ja peadpööritavatesse olukordadesse\, kus liiklusreeglid\, loogika ja vahel ka reaalsus ise näivad korraks kaduma minevat.\nMida rohkem pinge kasvab\, seda selgemaks saab\, et eksam ei pane proovile mitte ainult sõiduoskust\, vaid ka inimlikku usaldust\, julgust ja võimet ootamatustega toime tulla. Kas õpilane suudab lõpuks rooli enda kätte võtta – nii otseses kui ka ülekantud tähenduses?\n„Kutsuge Marge” on vaimukas ja südamlik lavalugu\, mis tuletab meelde\, et vahel viivad kõige keerulisemad teed just õigesse sihtkohta. \nEsietendus 2.06.2026 Viljandi \nNB! Etendus toimub: LX Motors Honda autosalong\, Viljandi\, kaart \n\nosta pilet | fienta
URL:https://seasaareteater.ee/etendus/kutsuge-marge-2/
LOCATION:LX Motors\, Tallinna 97b\, Viljandi\, 71018
ATTACH;FMTTYPE=image/jpeg:https://seasaareteater.ee/wp-content/uploads/2026/04/KMarge.jpg
END:VEVENT
BEGIN:VEVENT
DTSTART;TZID=Europe/Tallinn:20260604T190000
DTEND;TZID=Europe/Tallinn:20260604T200000
DTSTAMP:20260421T135920
CREATED:20260416T094432Z
LAST-MODIFIED:20260417T131722Z
UID:1039-1780599600-1780603200@seasaareteater.ee
SUMMARY:Kutsuge Marge
DESCRIPTION:Lavastaja Jaanus Kukk\nMarge – Katariina Raudsepp\nHeino – Romet Koser \nTempokas ja lustakas komöödia\, mis viib vaataja otse autojuhi sõidueksami närvesöövasse maailma\, kus esmapilgul lihtsast eksamist kujuneb ootamatult tõeline närvide\, usalduse ja huumori proovikivi.\nPeategelane on eksaminärvis õpilane\, kelle enesekindlus kõigub iga käiguga. Tema kõrval istub rahulik\, kuid salapärane instruktor\, kelle meetodid pole just tavapärased. Sõidu käigus satutakse järjest absurdsematesse ja peadpööritavatesse olukordadesse\, kus liiklusreeglid\, loogika ja vahel ka reaalsus ise näivad korraks kaduma minevat.\nMida rohkem pinge kasvab\, seda selgemaks saab\, et eksam ei pane proovile mitte ainult sõiduoskust\, vaid ka inimlikku usaldust\, julgust ja võimet ootamatustega toime tulla. Kas õpilane suudab lõpuks rooli enda kätte võtta – nii otseses kui ka ülekantud tähenduses?\n„Kutsuge Marge” on vaimukas ja südamlik lavalugu\, mis tuletab meelde\, et vahel viivad kõige keerulisemad teed just õigesse sihtkohta. \nEsietendus 2.06.2026 Viljandi \nNB! Etendus toimub: LX Motors Honda autosalong\, Viljandi\, kaart \n\nosta pilet | fienta
URL:https://seasaareteater.ee/etendus/kutsuge-marge-3/
LOCATION:LX Motors\, Tallinna 97b\, Viljandi\, 71018
ATTACH;FMTTYPE=image/jpeg:https://seasaareteater.ee/wp-content/uploads/2026/04/KMarge.jpg
END:VEVENT
BEGIN:VEVENT
DTSTART;TZID=Europe/Tallinn:20260609T190000
DTEND;TZID=Europe/Tallinn:20260609T200000
DTSTAMP:20260421T135920
CREATED:20260416T094538Z
LAST-MODIFIED:20260417T131821Z
UID:1041-1781031600-1781035200@seasaareteater.ee
SUMMARY:Kutsuge Marge
DESCRIPTION:Lavastaja Jaanus Kukk\nMarge – Katariina Raudsepp\nHeino – Romet Koser \nTempokas ja lustakas komöödia\, mis viib vaataja otse autojuhi sõidueksami närvesöövasse maailma\, kus esmapilgul lihtsast eksamist kujuneb ootamatult tõeline närvide\, usalduse ja huumori proovikivi.\nPeategelane on eksaminärvis õpilane\, kelle enesekindlus kõigub iga käiguga. Tema kõrval istub rahulik\, kuid salapärane instruktor\, kelle meetodid pole just tavapärased. Sõidu käigus satutakse järjest absurdsematesse ja peadpööritavatesse olukordadesse\, kus liiklusreeglid\, loogika ja vahel ka reaalsus ise näivad korraks kaduma minevat.\nMida rohkem pinge kasvab\, seda selgemaks saab\, et eksam ei pane proovile mitte ainult sõiduoskust\, vaid ka inimlikku usaldust\, julgust ja võimet ootamatustega toime tulla. Kas õpilane suudab lõpuks rooli enda kätte võtta – nii otseses kui ka ülekantud tähenduses?\n„Kutsuge Marge” on vaimukas ja südamlik lavalugu\, mis tuletab meelde\, et vahel viivad kõige keerulisemad teed just õigesse sihtkohta. \nEsietendus 2.06.2026 Viljandi \nNB! Etendus toimub: LX Motors Honda autosalong\, Viljandi\, kaart \n\nosta pilet | fienta
URL:https://seasaareteater.ee/etendus/kutsuge-marge-4/
LOCATION:LX Motors\, Tallinna 97b\, Viljandi\, 71018
ATTACH;FMTTYPE=image/jpeg:https://seasaareteater.ee/wp-content/uploads/2026/04/KMarge.jpg
END:VEVENT
BEGIN:VEVENT
DTSTART;TZID=Europe/Tallinn:20260610T190000
DTEND;TZID=Europe/Tallinn:20260610T200000
DTSTAMP:20260421T135920
CREATED:20260416T094622Z
LAST-MODIFIED:20260417T131852Z
UID:1043-1781118000-1781121600@seasaareteater.ee
SUMMARY:Kutsuge Marge
DESCRIPTION:Lavastaja Jaanus Kukk\nMarge – Katariina Raudsepp\nHeino – Romet Koser \nTempokas ja lustakas komöödia\, mis viib vaataja otse autojuhi sõidueksami närvesöövasse maailma\, kus esmapilgul lihtsast eksamist kujuneb ootamatult tõeline närvide\, usalduse ja huumori proovikivi.\nPeategelane on eksaminärvis õpilane\, kelle enesekindlus kõigub iga käiguga. Tema kõrval istub rahulik\, kuid salapärane instruktor\, kelle meetodid pole just tavapärased. Sõidu käigus satutakse järjest absurdsematesse ja peadpööritavatesse olukordadesse\, kus liiklusreeglid\, loogika ja vahel ka reaalsus ise näivad korraks kaduma minevat.\nMida rohkem pinge kasvab\, seda selgemaks saab\, et eksam ei pane proovile mitte ainult sõiduoskust\, vaid ka inimlikku usaldust\, julgust ja võimet ootamatustega toime tulla. Kas õpilane suudab lõpuks rooli enda kätte võtta – nii otseses kui ka ülekantud tähenduses?\n„Kutsuge Marge” on vaimukas ja südamlik lavalugu\, mis tuletab meelde\, et vahel viivad kõige keerulisemad teed just õigesse sihtkohta. \nEsietendus 2.06.2026 Viljandi \nNB! Etendus toimub: LX Motors Honda autosalong\, Viljandi\, kaart \n\nosta pilet | fienta
URL:https://seasaareteater.ee/etendus/kutsuge-marge-5/
LOCATION:LX Motors\, Tallinna 97b\, Viljandi\, 71018
ATTACH;FMTTYPE=image/jpeg:https://seasaareteater.ee/wp-content/uploads/2026/04/KMarge.jpg
END:VEVENT
BEGIN:VEVENT
DTSTART;TZID=Europe/Tallinn:20260611T190000
DTEND;TZID=Europe/Tallinn:20260611T200000
DTSTAMP:20260421T135920
CREATED:20260416T094644Z
LAST-MODIFIED:20260417T131926Z
UID:1045-1781204400-1781208000@seasaareteater.ee
SUMMARY:Kutsuge Marge
DESCRIPTION:Lavastaja Jaanus Kukk\nMarge – Katariina Raudsepp\nHeino – Romet Koser \nTempokas ja lustakas komöödia\, mis viib vaataja otse autojuhi sõidueksami närvesöövasse maailma\, kus esmapilgul lihtsast eksamist kujuneb ootamatult tõeline närvide\, usalduse ja huumori proovikivi.\nPeategelane on eksaminärvis õpilane\, kelle enesekindlus kõigub iga käiguga. Tema kõrval istub rahulik\, kuid salapärane instruktor\, kelle meetodid pole just tavapärased. Sõidu käigus satutakse järjest absurdsematesse ja peadpööritavatesse olukordadesse\, kus liiklusreeglid\, loogika ja vahel ka reaalsus ise näivad korraks kaduma minevat.\nMida rohkem pinge kasvab\, seda selgemaks saab\, et eksam ei pane proovile mitte ainult sõiduoskust\, vaid ka inimlikku usaldust\, julgust ja võimet ootamatustega toime tulla. Kas õpilane suudab lõpuks rooli enda kätte võtta – nii otseses kui ka ülekantud tähenduses?\n„Kutsuge Marge” on vaimukas ja südamlik lavalugu\, mis tuletab meelde\, et vahel viivad kõige keerulisemad teed just õigesse sihtkohta. \nEsietendus 2.06.2026 Viljandi \nNB! Etendus toimub: LX Motors Honda autosalong\, Viljandi\, kaart \n\nosta pilet | fienta
URL:https://seasaareteater.ee/etendus/kutsuge-marge-6/
LOCATION:LX Motors\, Tallinna 97b\, Viljandi\, 71018
ATTACH;FMTTYPE=image/jpeg:https://seasaareteater.ee/wp-content/uploads/2026/04/KMarge.jpg
END:VEVENT
BEGIN:VEVENT
DTSTART;TZID=Europe/Tallinn:20260614T180000
DTEND;TZID=Europe/Tallinn:20260614T220000
DTSTAMP:20260421T135920
CREATED:20260411T091744Z
LAST-MODIFIED:20260411T093021Z
UID:1002-1781460000-1781474400@seasaareteater.ee
SUMMARY:Versus
DESCRIPTION:
URL:https://seasaareteater.ee/etendus/versus/
LOCATION:Theater am Olgaeck\, Charlottenstraße 44\, Stuttgart\, 70182\, Germany
ATTACH;FMTTYPE=image/jpeg:https://seasaareteater.ee/wp-content/uploads/2026/04/Tulemas.jpg
ORGANIZER;CN="Seasaare":MAILTO:seasaare@gmail.com
END:VEVENT
END:VCALENDAR